BEGIN:VCALENDAR
VERSION:2.0
PRODID:-//Foot-Lab - ECPv5.10.0//NONSGML v1.0//EN
CALSCALE:GREGORIAN
METHOD:PUBLISH
X-WR-CALNAME:Foot-Lab
X-ORIGINAL-URL:https://foot-lab.com
X-WR-CALDESC:évènements pour Foot-Lab
BEGIN:VTIMEZONE
TZID:Europe/Paris
BEGIN:DAYLIGHT
TZOFFSETFROM:+0100
TZOFFSETTO:+0200
TZNAME:CEST
DTSTART:20230326T010000
END:DAYLIGHT
BEGIN:STANDARD
TZOFFSETFROM:+0200
TZOFFSETTO:+0100
TZNAME:CET
DTSTART:20231029T010000
END:STANDARD
END:VTIMEZONE
BEGIN:VEVENT
DTSTART;VALUE=DATE:20230710
DTEND;VALUE=DATE:20230715
DTSTAMP:20260424T042739
CREATED:20230224T111816Z
LAST-MODIFIED:20230224T111816Z
UID:31814-1688947200-1689379199@foot-lab.com
SUMMARY:CAMP DE FOOTBALL D’ÉTÉ À CRANS-MONTANA
DESCRIPTION:Pour jeunes footballeurs motivés de 8 à 15 ans\, filles et garçons.\nExpertise technique et évaluation personnalisée sur des critères déterminants spécifiques au football.\nUne méthode à la pointe\, centré sur le développement de l’individu.\nDes progrès spectaculaires sur le plan technique et dans la prise de décision.\nEnvironnement exceptionnel au cœur des Alpes suisses.\nAvec ou sans hébergement (logement et repas dans un hôtel).\nDirection et programme du camp élaboré par Patrick La Spina\, Fondateur de Foot Lab\, Entraîneur technique et consultant pour de nombreux clubs et fédérations nationales en Europe\, concepteur de la méthode du Zidane Five Club.
URL:https://foot-lab.com/event/camp-de-football-dete-a-crans-montana-6/
LOCATION:Crans Montana\, Rue de la Prairie 34\, Crans-Montana\, 3963\, Switzerland
CATEGORIES:Camps
END:VEVENT
END:VCALENDAR