BEGIN:VCALENDAR
VERSION:2.0
PRODID:-//Foot-Lab - ECPv5.10.0//NONSGML v1.0//EN
CALSCALE:GREGORIAN
METHOD:PUBLISH
X-WR-CALNAME:Foot-Lab
X-ORIGINAL-URL:https://foot-lab.com
X-WR-CALDESC:évènements pour Foot-Lab
BEGIN:VTIMEZONE
TZID:Europe/Paris
BEGIN:DAYLIGHT
TZOFFSETFROM:+0100
TZOFFSETTO:+0200
TZNAME:CEST
DTSTART:20250330T010000
END:DAYLIGHT
BEGIN:STANDARD
TZOFFSETFROM:+0200
TZOFFSETTO:+0100
TZNAME:CET
DTSTART:20251026T010000
END:STANDARD
END:VTIMEZONE
BEGIN:VEVENT
DTSTART;VALUE=DATE:20250305
DTEND;VALUE=DATE:20250308
DTSTAMP:20260421T132614
CREATED:20220114T095915Z
LAST-MODIFIED:20250109T103359Z
UID:30284-1741132800-1741391999@foot-lab.com
SUMMARY:STAGE DE CARNAVAL INDOOR À SIERRE
DESCRIPTION:
URL:https://foot-lab.com/event/stage-de-carnaval-a-sierre/
CATEGORIES:Camps
END:VEVENT
END:VCALENDAR